BEGIN:VCALENDAR
VERSION:2.0
PRODID:-//MWDL - ECPv6.15.20//NONSGML v1.0//EN
CALSCALE:GREGORIAN
METHOD:PUBLISH
X-WR-CALNAME:MWDL
X-ORIGINAL-URL:https://mwdl.org
X-WR-CALDESC:Events for MWDL
REFRESH-INTERVAL;VALUE=DURATION:PT1H
X-Robots-Tag:noindex
X-PUBLISHED-TTL:PT1H
BEGIN:VTIMEZONE
TZID:UTC
BEGIN:STANDARD
TZOFFSETFROM:+0000
TZOFFSETTO:+0000
TZNAME:UTC
DTSTART:20250101T000000
END:STANDARD
END:VTIMEZONE
BEGIN:VEVENT
DTSTART;VALUE=DATE:20260401
DTEND;VALUE=DATE:20260502
DTSTAMP:20260423T013452
CREATED:20250418T201123Z
LAST-MODIFIED:20260422T191941Z
UID:8579-1775001600-1777679999@mwdl.org
SUMMARY:Utah State Archives - 2026 Summer Internship Apps open!
DESCRIPTION:Utah State Archives is currently accepting applications for summer 2026 internships through Friday\, May 1! Please see their blog for more details and application process. There are four (4) positions available and did we mention — there’s a stipend! \n 
URL:https://mwdl.org/event/utah-state-archives-summer-internship-apps-open/
ATTACH;FMTTYPE=image/jpeg:https://mwdl.org/wp-content/uploads/sites/58/2025/04/UTState_Archives_logo.jpg
END:VEVENT
BEGIN:VEVENT
DTSTART;VALUE=DATE:20260415
DTEND;VALUE=DATE:20260513
DTSTAMP:20260423T013452
CREATED:20260415T153040Z
LAST-MODIFIED:20260415T153040Z
UID:11618-1776211200-1778630399@mwdl.org
SUMMARY:Call for Proposals: DLF Forum (Fall 2026\, online)
DESCRIPTION:The Call for Proposals for virtual DLF Forum (October 14-15\, 2026) is now live! There will be no in-person gathering this year – the Forum is fully virtual. \nThe submission deadline is Monday\, May 11 at 11:59 pm Eastern Time (10:59 pm Mountain). \nFor more information on the event\, session formats and other information\, please visit the DLF Forum Call for Proposals site. \n 
URL:https://mwdl.org/event/call-for-proposals-dlf-forum-fall-2026-online/
ATTACH;FMTTYPE=image/png:https://mwdl.org/wp-content/uploads/sites/58/2023/07/DLF_logo_export-e1742320271161.png
END:VEVENT
BEGIN:VEVENT
DTSTART;TZID=UTC:20260423T110000
DTEND;TZID=UTC:20260423T120000
DTSTAMP:20260423T013452
CREATED:20260416T161741Z
LAST-MODIFIED:20260416T161741Z
UID:11624-1776942000-1776945600@mwdl.org
SUMMARY:DPLA: Analytics Dashboard demo & feedback
DESCRIPTION:The DPLA Analytics Dashboard recently came back online. DPLA will host a demo and feedback session at 11 AM Mountain/10AM Pacific next Thursday\, April 23\, 2026. \nRegister here
URL:https://mwdl.org/event/dpla-analytics-dashboard-demo-feedback/
ATTACH;FMTTYPE=image/png:https://mwdl.org/wp-content/uploads/sites/58/2023/01/DPLA_Square_Logo.png
END:VEVENT
END:VCALENDAR